BEGIN:VCALENDAR
VERSION:2.0
PRODID:-//wp-events-plugin.com//7.2.3.1//EN
TZID:America/New_York
X-WR-TIMEZONE:America/New_York
BEGIN:VEVENT
UID:1@bhwellnessgroup.com
DTSTART;TZID=America/New_York:20250812T180000
DTEND;TZID=America/New_York:20250812T200000
DTSTAMP:20250812T151710Z
URL:https://www.bhwellnessgroup.com/events/weekly-meditation-golden-light-
 healing/
SUMMARY:Weekly Meditation: Golden Light Healing
DESCRIPTION:Every Tuesday at 6:00 PM EST | Online (Zoom)\nJoin us for a wee
 kly guided meditation experience designed to bring you back to center\, cl
 ear energetic blockages\, and align you with peace\, clarity\, and divine 
 light.\n\nLed by Bhavna\, a transformational life coach and energy healer\
 , this sacred space offers a gentle reset for your mind\, body\, and soul.
  Each session is intuitively guided and infused with golden healing energy
  to support your personal journey.
LOCATION:https://forms.gle/av35jsNXRr1r6E8L8
END:VEVENT
BEGIN:VTIMEZONE
TZID:America/New_York
X-LIC-LOCATION:America/New_York
BEGIN:DAYLIGHT
DTSTART:20250309T030000
TZOFFSETFROM:-0500
TZOFFSETTO:-0400
TZNAME:EDT
END:DAYLIGHT
END:VTIMEZONE
END:VCALENDAR